BEGIN:VCALENDAR
VERSION:2.0
PRODID:-//101 Glass Studio - ECPv5.4.0//NONSGML v1.0//EN
CALSCALE:GREGORIAN
METHOD:PUBLISH
X-WR-CALNAME:101 Glass Studio
X-ORIGINAL-URL:http://101glassstudio.com
X-WR-CALDESC:Events for 101 Glass Studio
BEGIN:VTIMEZONE
TZID:UTC
BEGIN:STANDARD
TZOFFSETFROM:+0000
TZOFFSETTO:+0000
TZNAME:UTC
DTSTART:20200101T000000
END:STANDARD
END:VTIMEZONE
BEGIN:VEVENT
DTSTART;VALUE=DATE:20201121
DTEND;VALUE=DATE:20201122
DTSTAMP:20260423T120858
CREATED:20201107T040848Z
LAST-MODIFIED:20201112T020613Z
UID:3056-1605916800-1606003199@101glassstudio.com
SUMMARY:Unknown Bunsen Bubble Cap Drop
DESCRIPTION:Unknown Bunsen drop live on Instagram. Tune in to be the first to see these custom bubble caps. \nInstagram: https://www.instagram.com/unknownbunsen/
URL:http://101glassstudio.com/calendar/unknown-bunsen-bubble-cap-drop/
END:VEVENT
END:VCALENDAR