BEGIN:VCALENDAR
VERSION:2.0
PRODID:-//101 Glass Studio - ECPv5.4.0//NONSGML v1.0//EN
CALSCALE:GREGORIAN
METHOD:PUBLISH
X-WR-CALNAME:101 Glass Studio
X-ORIGINAL-URL:http://101glassstudio.com
X-WR-CALDESC:Events for 101 Glass Studio
BEGIN:VTIMEZONE
TZID:UTC
BEGIN:STANDARD
TZOFFSETFROM:+0000
TZOFFSETTO:+0000
TZNAME:UTC
DTSTART:20210101T000000
END:STANDARD
END:VTIMEZONE
BEGIN:VEVENT
DTSTART;VALUE=DATE:20210501
DTEND;VALUE=DATE:20210502
DTSTAMP:20260423T020223
CREATED:20201104T062246Z
LAST-MODIFIED:20201104T062246Z
UID:2991-1619827200-1619913599@101glassstudio.com
SUMMARY:Phil Siegel Drop
DESCRIPTION:Phil Siegel Glass drop live on Instagram. Tune in to see this magical drop from the glassblowing wizard Phil Siegal. \nInstagram: https://www.instagram.com/philsiegelglass/ \nhttp://www.philsiegelglass.com/
URL:http://101glassstudio.com/calendar/phil-siegel-drop/
END:VEVENT
END:VCALENDAR