BEGIN:VCALENDAR
VERSION:2.0
PRODID:-//101 Glass Studio - ECPv5.4.0//NONSGML v1.0//EN
CALSCALE:GREGORIAN
METHOD:PUBLISH
X-WR-CALNAME:101 Glass Studio
X-ORIGINAL-URL:http://101glassstudio.com
X-WR-CALDESC:Events for 101 Glass Studio
BEGIN:VTIMEZONE
TZID:UTC
BEGIN:STANDARD
TZOFFSETFROM:+0000
TZOFFSETTO:+0000
TZNAME:UTC
DTSTART:20200101T000000
END:STANDARD
END:VTIMEZONE
BEGIN:VEVENT
DTSTART;TZID=UTC:20200825T162000
DTEND;TZID=UTC:20200825T163000
DTSTAMP:20260423T165842
CREATED:20200826T004351Z
LAST-MODIFIED:20200827T030929Z
UID:1783-1598372400-1598373000@101glassstudio.com
SUMMARY:Augy raffle winners announced
DESCRIPTION:We are going live on Instagram at 4:20pm PST to announce the winners of our Augy raffle – \nCongrats to the winners:\n1st place (Augy incycler rig) – @charcannabis\n2nd place (T-shirt and dab mat) – @xaltbuds\n3rd place (T-shirt and dab mat) – @charcannabis \nDon’t miss out on your chance to win our next raffle!
URL:http://101glassstudio.com/calendar/augy-raffle-winners-announced/
END:VEVENT
END:VCALENDAR